BEGIN:VCALENDAR
VERSION:2.0
PRODID:-//ChamberMaster//Event Calendar 2.0//EN
METHOD:PUBLISH
X-PUBLISHED-TTL:P3D
REFRESH-INTERVAL:P3D
CALSCALE:GREGORIAN
BEGIN:VEVENT
DTSTART:20260512T120000Z
DTEND:20260512T130000Z
X-MICROSOFT-CDO-ALLDAYEVENT:FALSE
SUMMARY:Ethics Board Meeting - Tuesday\, 5/12\, 8:00 am\, Town Hall
DESCRIPTION:The Ethics Board will meet at 8:00 a.m. at Town Hall.  Most recent agenda. https://www.townofbethlehem.org/calendar.aspx?EID=6295
X-ALT-DESC;FMTTYPE=text/html:The <a href="https://www.townofbethlehem.org/439/Ethics-Board">Ethics Board</a> will meet at 8:00 a.m. at Town Hall.  Most recent <a href="https://www.townofbethlehem.org//DocumentCenter/View/8005" target="_blank">agenda</a>. https://www.townofbethlehem.org/calendar.aspx?EID=6295
LOCATION:Town Hall\, Room 101 - 445 Delaware Avenue Delmar NY 12054
UID:e.1354.11426
SEQUENCE:3
DTSTAMP:20260419T185038Z
URL:http://dev.bethlehemchamber.com/events/details/ethics-board-meeting-tuesday-5-12-8-00-am-town-hall-11426
END:VEVENT

END:VCALENDAR
